BEGIN:VCALENDAR
VERSION:2.0
PRODID:-//Polis - ECPv6.15.20//NONSGML v1.0//EN
CALSCALE:GREGORIAN
METHOD:PUBLISH
X-WR-CALNAME:Polis
X-ORIGINAL-URL:http://unterwegs.weltklang-studio.de
X-WR-CALDESC:Veranstaltungen für Polis
REFRESH-INTERVAL;VALUE=DURATION:PT1H
X-Robots-Tag:noindex
X-PUBLISHED-TTL:PT1H
BEGIN:VTIMEZONE
TZID:Europe/Berlin
BEGIN:DAYLIGHT
TZOFFSETFROM:+0100
TZOFFSETTO:+0200
TZNAME:CEST
DTSTART:20250330T010000
END:DAYLIGHT
BEGIN:STANDARD
TZOFFSETFROM:+0200
TZOFFSETTO:+0100
TZNAME:CET
DTSTART:20251026T010000
END:STANDARD
BEGIN:DAYLIGHT
TZOFFSETFROM:+0100
TZOFFSETTO:+0200
TZNAME:CEST
DTSTART:20260329T010000
END:DAYLIGHT
BEGIN:STANDARD
TZOFFSETFROM:+0200
TZOFFSETTO:+0100
TZNAME:CET
DTSTART:20261025T010000
END:STANDARD
BEGIN:DAYLIGHT
TZOFFSETFROM:+0100
TZOFFSETTO:+0200
TZNAME:CEST
DTSTART:20270328T010000
END:DAYLIGHT
BEGIN:STANDARD
TZOFFSETFROM:+0200
TZOFFSETTO:+0100
TZNAME:CET
DTSTART:20271031T010000
END:STANDARD
END:VTIMEZONE
BEGIN:VEVENT
DTSTART;TZID=Europe/Berlin:20260522T200000
DTEND;TZID=Europe/Berlin:20260522T233000
DTSTAMP:20260423T093108
CREATED:20260421T092840Z
LAST-MODIFIED:20260421T093036Z
UID:1729-1779480000-1779492600@unterwegs.weltklang-studio.de
SUMMARY:Pilgern zu Polis – das Release-Konzert in Plauen
DESCRIPTION:Am 22.Mai erscheint unser lang ersehntes viertes Studioalbum PILGER. Und das möchten wir natürlich gebührlich mit Euch feiern. Wir laden Euch ein in unser musikalisches Zuhause\, die Alte Kaffeerösterei zu Plauen. Als dem Anlass entsprechenden Höhepunkt werden wir das neue Konzeptalbum in seiner Gesamtheit aufführen. Wer Polis bereits live erlebt hat\, weiß\, daß Musik und thematische Inhalte auf der Bühne nicht nur hörbar\, sonder körperlich erfahrbar werden. Dies trifft auf den geradezu zeremoniellen Spannungsbogen von PILGER ganz besonders zu und wir können kaum erwarten\, das mit Euch gemeinsam zu erleben. \nSei dabei!
URL:http://unterwegs.weltklang-studio.de/event/releasekonzert-pilger/
LOCATION:Alte Kaffeerösterei Plauen\, Hans-Sachs-Straße\, 49a\, Sachsen\, 08525\, Germany
END:VEVENT
END:VCALENDAR